BEGIN:VCALENDAR
VERSION:2.0
PRODID:-//demosphere.net//NONSGML kigkonsult.se iCalcreator 2.22.1//
METHOD:REQUEST
X-WR-TIMEZONE:Europe/Paris
BEGIN:VEVENT
UID:https://safe.isere.demosphere.net/rv/1557
DTSTAMP:20260426T120000Z
DESCRIPTION:plus d'infos sur : https://safe.isere.demosphere.net/rv/1557
DTSTART:20260426T120000Z
DTEND:20260426T130000Z
GEO:+45.174975;+5.718178
LOCATION:Grenoble\, \n24 rue John Kennedy 38100 GRENOBLE
SUMMARY:Vide dressing pour la Palestine
URL:https://safe.isere.demosphere.net/rv/1557
END:VEVENT
END:VCALENDAR
