BEGIN:VCALENDAR
VERSION:2.0
PRODID:-//demosphere.net//NONSGML kigkonsult.se iCalcreator 2.22.1//
METHOD:REQUEST
X-WR-TIMEZONE:Europe/Paris
BEGIN:VEVENT
UID:https://safe.isere.demosphere.net/rv/1555
DTSTAMP:20260421T180000Z
DESCRIPTION:plus d'infos sur : https://safe.isere.demosphere.net/rv/1555
DTSTART:20260421T180000Z
DTEND:20260421T190000Z
GEO:+45.184829;+5.70472
LOCATION:Grenoble\, \nSalle Noire\, 19 rue des Arts et métiers\, 38000 Gren
 oble
SUMMARY:Conférence - débat autour de l'I.A - Salle Noire / Grenoble
URL:https://safe.isere.demosphere.net/rv/1555
END:VEVENT
END:VCALENDAR
