BEGIN:VCALENDAR
VERSION:2.0
PRODID:-//demosphere.net//NONSGML kigkonsult.se iCalcreator 2.22.1//
METHOD:REQUEST
X-WR-TIMEZONE:Europe/Paris
BEGIN:VEVENT
UID:https://safe.isere.demosphere.net/rv/1257
DTSTAMP:20250908T160000Z
DESCRIPTION:plus d'infos sur : https://safe.isere.demosphere.net/rv/1257
DTSTART:20250908T160000Z
DTEND:20250908T170000Z
GEO:+45.184829;+5.70472
LOCATION:Grenoble\, \nSalle Noire\, 19 rue des Arts et métiers\, 38000 Gren
 oble
SUMMARY:AG Culture en lutte 38
URL:https://safe.isere.demosphere.net/rv/1257
END:VEVENT
END:VCALENDAR
